Workbook

Sheet Como usar
A1: Conferência de faturas · modelo da JP Gestão (jpgestao.com)
A3: 1. Em 'Contrato', liste os itens com o preço combinado e a tolerância aceita.
A4: 2. Em 'Recebimento', registre cada entrega NA HORA em que chega (código, data, quantidade).
A5: 3. Em 'Nota', cole os itens da nota do fornecedor.
A6: 4. A aba 'Conferência' compara tudo sozinha e mostra o valor a recuperar.
A8: Os dados em cinza são só para ver funcionando: apague e use os seus.
A9: O código do item precisa ser o mesmo nas três abas. Se o fornecedor usa outro código, faça uma coluna de-para.
A11: Quando o volume crescer (muitas notas, PDF, códigos diferentes), a conferência com IA faz isso em segundos: jpgestao.com

Sheet Contrato
A1: Código | B1: Descrição | C1: Preço combinado (R$) | D1: Tolerância de preço (%)
A2: LT-1001 | B2: Leite integral 1 L | C2: 4.89 | D2: 1
A3: QJ-2010 | B3: Muçarela fatiada (kg) | C3: 39.9 | D3: 1
A4: MT-3002 | B4: Manteiga com sal 200 g | C4: 11.4 | D4: 1
A5: CR-4005 | B5: Creme de leite fresco 1 L | C5: 24.8 | D5: 1

Sheet Recebimento
A1: Data da entrega | B1: Nº da nota | C1: Código | D1: Qtd recebida | E1: Conferido por
A2: 01/09/2026 | B2: 48215 | C2: LT-1001 | D2: 120 | E2: Ana
A3: 01/09/2026 | B3: 48215 | C3: QJ-2010 | D3: 30 | E3: Ana
A4: 01/09/2026 | B4: 48215 | C4: MT-3002 | D4: 40 | E4: Ana
A5: 03/09/2026 | B5: 48215 | C5: CR-4005 | D5: 12 | E5: Bruno

Sheet Nota
A1: Nº da nota | B1: Data da entrega | C1: Código | D1: Qtd faturada | E1: Preço na nota (R$)
A2: 48215 | B2: 01/09/2026 | C2: LT-1001 | D2: 120 | E2: 4.89
A3: 48215 | B3: 01/09/2026 | C3: QJ-2010 | D3: 30 | E3: 42.3
A4: 48215 | B4: 01/09/2026 | C4: MT-3002 | D4: 40 | E4: 11.4
A5: 48215 | B5: 01/09/2026 | C5: MT-3002 | D5: 30 | E5: 11.4
A6: 48215 | B6: 03/09/2026 | C6: CR-4005 | D6: 20 | E6: 24.8

Sheet Conferência
A1: Nº da nota | B1: Código | C1: Qtd faturada | D1: Qtd recebida | E1: Preço na nota | F1: Preço combinado | G1: Linhas iguais na nota | H1: Divergência | I1: Valor a recuperar (R$) | K1: Total a recuperar (R$)
A2: =IF(Nota!A2="","",Nota!A2) | B2: =IF(Nota!A2="","",Nota!C2) | C2: =IF(Nota!A2="","",Nota!D2) | D2: =IF(Nota!A2="","",SUMIFS(Recebimento!D:D,Recebimento!B:B,Nota!A2,Recebimento!C:C,Nota!C2)) | E2: =IF(Nota!A2="","",Nota!E2) | F2: =IF(Nota!A2="","",IFERROR(INDEX(Contrato!C:C,MATCH(Nota!C2,Contrato!A:A,0)),"sem contrato")) | G2: =IF(Nota!A2="","",COUNTIFS(Nota!A:A,Nota!A2,Nota!C:C,Nota!C2)) | H2: =IF(Nota!A2="","",IF(G2>1,IF(SUMIFS(Nota!D:D,Nota!A:A,Nota!A2,Nota!C:C,Nota!C2)>D2,"Cobrança em dobro (item repetido na nota)","Item repetido, quantidade bate"),IF(D2<C2,"Quantidade que não chegou",IF(AND(ISNUMBER(F2),E2>F2*(1+IFERROR(INDEX(Contrato!D:D,MATCH(B2,Contrato!A:A,0)),0)/100)),"Preço acima do contrato","OK")))) | I2: =IF(OR(Nota!A2="",H2="OK",H2="Item repetido, quantidade bate"),"",IF(H2="Quantidade que não chegou",(C2-D2)*E2,IF(H2="Preço acima do contrato",(E2-F2)*C2,IF(AND(LEFT(H2,8)="Cobrança",COUNTIFS(Nota!A$2:A2,Nota!A2,Nota!C$2:C2,Nota!C2)=G2),(SUMIFS(Nota!D:D,Nota!A:A,Nota!A2,Nota!C:C,Nota!C2)-D2)*E2,0)))) | K2: =SUM(I2:I301)
A3: =IF(Nota!A3="","",Nota!A3) | B3: =IF(Nota!A3="","",Nota!C3) | C3: =IF(Nota!A3="","",Nota!D3) | D3: =IF(Nota!A3="","",SUMIFS(Recebimento!D:D,Recebimento!B:B,Nota!A3,Recebimento!C:C,Nota!C3)) | E3: =IF(Nota!A3="","",Nota!E3) | F3: =IF(Nota!A3="","",IFERROR(INDEX(Contrato!C:C,MATCH(Nota!C3,Contrato!A:A,0)),"sem contrato")) | G3: =IF(Nota!A3="","",COUNTIFS(Nota!A:A,Nota!A3,Nota!C:C,Nota!C3)) | H3: =IF(Nota!A3="","",IF(G3>1,IF(SUMIFS(Nota!D:D,Nota!A:A,Nota!A3,Nota!C:C,Nota!C3)>D3,"Cobrança em dobro (item repetido na nota)","Item repetido, quantidade bate"),IF(D3<C3,"Quantidade que não chegou",IF(AND(ISNUMBER(F3),E3>F3*(1+IFERROR(INDEX(Contrato!D:D,MATCH(B3,Contrato!A:A,0)),0)/100)),"Preço acima do contrato","OK")))) | I3: =IF(OR(Nota!A3="",H3="OK",H3="Item repetido, quantidade bate"),"",IF(H3="Quantidade que não chegou",(C3-D3)*E3,IF(H3="Preço acima do contrato",(E3-F3)*C3,IF(AND(LEFT(H3,8)="Cobrança",COUNTIFS(Nota!A$2:A3,Nota!A3,Nota!C$2:C3,Nota!C3)=G3),(SUMIFS(Nota!D:D,Nota!A:A,Nota!A3,Nota!C:C,Nota!C3)-D3)*E3,0))))
A4: =IF(Nota!A4="","",Nota!A4) | B4: =IF(Nota!A4="","",Nota!C4) | C4: =IF(Nota!A4="","",Nota!D4) | D4: =IF(Nota!A4="","",SUMIFS(Recebimento!D:D,Recebimento!B:B,Nota!A4,Recebimento!C:C,Nota!C4)) | E4: =IF(Nota!A4="","",Nota!E4) | F4: =IF(Nota!A4="","",IFERROR(INDEX(Contrato!C:C,MATCH(Nota!C4,Contrato!A:A,0)),"sem contrato")) | G4: =IF(Nota!A4="","",COUNTIFS(Nota!A:A,Nota!A4,Nota!C:C,Nota!C4)) | H4: =IF(Nota!A4="","",IF(G4>1,IF(SUMIFS(Nota!D:D,Nota!A:A,Nota!A4,Nota!C:C,Nota!C4)>D4,"Cobrança em dobro (item repetido na nota)","Item repetido, quantidade bate"),IF(D4<C4,"Quantidade que não chegou",IF(AND(ISNUMBER(F4),E4>F4*(1+IFERROR(INDEX(Contrato!D:D,MATCH(B4,Contrato!A:A,0)),0)/100)),"Preço acima do contrato","OK")))) | I4: =IF(OR(Nota!A4="",H4="OK",H4="Item repetido, quantidade bate"),"",IF(H4="Quantidade que não chegou",(C4-D4)*E4,IF(H4="Preço acima do contrato",(E4-F4)*C4,IF(AND(LEFT(H4,8)="Cobrança",COUNTIFS(Nota!A$2:A4,Nota!A4,Nota!C$2:C4,Nota!C4)=G4),(SUMIFS(Nota!D:D,Nota!A:A,Nota!A4,Nota!C:C,Nota!C4)-D4)*E4,0))))
A5: =IF(Nota!A5="","",Nota!A5) | B5: =IF(Nota!A5="","",Nota!C5) | C5: =IF(Nota!A5="","",Nota!D5) | D5: =IF(Nota!A5="","",SUMIFS(Recebimento!D:D,Recebimento!B:B,Nota!A5,Recebimento!C:C,Nota!C5)) | E5: =IF(Nota!A5="","",Nota!E5) | F5: =IF(Nota!A5="","",IFERROR(INDEX(Contrato!C:C,MATCH(Nota!C5,Contrato!A:A,0)),"sem contrato")) | G5: =IF(Nota!A5="","",COUNTIFS(Nota!A:A,Nota!A5,Nota!C:C,Nota!C5)) | H5: =IF(Nota!A5="","",IF(G5>1,IF(SUMIFS(Nota!D:D,Nota!A:A,Nota!A5,Nota!C:C,Nota!C5)>D5,"Cobrança em dobro (item repetido na nota)","Item repetido, quantidade bate"),IF(D5<C5,"Quantidade que não chegou",IF(AND(ISNUMBER(F5),E5>F5*(1+IFERROR(INDEX(Contrato!D:D,MATCH(B5,Contrato!A:A,0)),0)/100)),"Preço acima do contrato","OK")))) | I5: =IF(OR(Nota!A5="",H5="OK",H5="Item repetido, quantidade bate"),"",IF(H5="Quantidade que não chegou",(C5-D5)*E5,IF(H5="Preço acima do contrato",(E5-F5)*C5,IF(AND(LEFT(H5,8)="Cobrança",COUNTIFS(Nota!A$2:A5,Nota!A5,Nota!C$2:C5,Nota!C5)=G5),(SUMIFS(Nota!D:D,Nota!A:A,Nota!A5,Nota!C:C,Nota!C5)-D5)*E5,0))))
A6: =IF(Nota!A6="","",Nota!A6) | B6: =IF(Nota!A6="","",Nota!C6) | C6: =IF(Nota!A6="","",Nota!D6) | D6: =IF(Nota!A6="","",SUMIFS(Recebimento!D:D,Recebimento!B:B,Nota!A6,Recebimento!C:C,Nota!C6)) | E6: =IF(Nota!A6="","",Nota!E6) | F6: =IF(Nota!A6="","",IFERROR(INDEX(Contrato!C:C,MATCH(Nota!C6,Contrato!A:A,0)),"sem contrato")) | G6: =IF(Nota!A6="","",COUNTIFS(Nota!A:A,Nota!A6,Nota!C:C,Nota!C6)) | H6: =IF(Nota!A6="","",IF(G6>1,IF(SUMIFS(Nota!D:D,Nota!A:A,Nota!A6,Nota!C:C,Nota!C6)>D6,"Cobrança em dobro (item repetido na nota)","Item repetido, quantidade bate"),IF(D6<C6,"Quantidade que não chegou",IF(AND(ISNUMBER(F6),E6>F6*(1+IFERROR(INDEX(Contrato!D:D,MATCH(B6,Contrato!A:A,0)),0)/100)),"Preço acima do contrato","OK")))) | I6: =IF(OR(Nota!A6="",H6="OK",H6="Item repetido, quantidade bate"),"",IF(H6="Quantidade que não chegou",(C6-D6)*E6,IF(H6="Preço acima do contrato",(E6-F6)*C6,IF(AND(LEFT(H6,8)="Cobrança",COUNTIFS(Nota!A$2:A6,Nota!A6,Nota!C$2:C6,Nota!C6)=G6),(SUMIFS(Nota!D:D,Nota!A:A,Nota!A6,Nota!C:C,Nota!C6)-D6)*E6,0))))
A7: =IF(Nota!A7="","",Nota!A7) | B7: =IF(Nota!A7="","",Nota!C7) | C7: =IF(Nota!A7="","",Nota!D7) | D7: =IF(Nota!A7="","",SUMIFS(Recebimento!D:D,Recebimento!B:B,Nota!A7,Recebimento!C:C,Nota!C7)) | E7: =IF(Nota!A7="","",Nota!E7) | F7: =IF(Nota!A7="","",IFERROR(INDEX(Contrato!C:C,MATCH(Nota!C7,Contrato!A:A,0)),"sem contrato")) | G7: =IF(Nota!A7="","",COUNTIFS(Nota!A:A,Nota!A7,Nota!C:C,Nota!C7)) | H7: =IF(Nota!A7="","",IF(G7>1,IF(SUMIFS(Nota!D:D,Nota!A:A,Nota!A7,Nota!C:C,Nota!C7)>D7,"Cobrança em dobro (item repetido na nota)","Item repetido, quantidade bate"),IF(D7<C7,"Quantidade que não chegou",IF(AND(ISNUMBER(F7),E7>F7*(1+IFERROR(INDEX(Contrato!D:D,MATCH(B7,Contrato!A:A,0)),0)/100)),"Preço acima do contrato","OK")))) | I7: =IF(OR(Nota!A7="",H7="OK",H7="Item repetido, quantidade bate"),"",IF(H7="Quantidade que não chegou",(C7-D7)*E7,IF(H7="Preço acima do contrato",(E7-F7)*C7,IF(AND(LEFT(H7,8)="Cobrança",COUNTIFS(Nota!A$2:A7,Nota!A7,Nota!C$2:C7,Nota!C7)=G7),(SUMIFS(Nota!D:D,Nota!A:A,Nota!A7,Nota!C:C,Nota!C7)-D7)*E7,0))))
A8: =IF(Nota!A8="","",Nota!A8) | B8: =IF(Nota!A8="","",Nota!C8) | C8: =IF(Nota!A8="","",Nota!D8) | D8: =IF(Nota!A8="","",SUMIFS(Recebimento!D:D,Recebimento!B:B,Nota!A8,Recebimento!C:C,Nota!C8)) | E8: =IF(Nota!A8="","",Nota!E8) | F8: =IF(Nota!A8="","",IFERROR(INDEX(Contrato!C:C,MATCH(Nota!C8,Contrato!A:A,0)),"sem contrato")) | G8: =IF(Nota!A8="","",COUNTIFS(Nota!A:A,Nota!A8,Nota!C:C,Nota!C8)) | H8: =IF(Nota!A8="","",IF(G8>1,IF(SUMIFS(Nota!D:D,Nota!A:A,Nota!A8,Nota!C:C,Nota!C8)>D8,"Cobrança em dobro (item repetido na nota)","Item repetido, quantidade bate"),IF(D8<C8,"Quantidade que não chegou",IF(AND(ISNUMBER(F8),E8>F8*(1+IFERROR(INDEX(Contrato!D:D,MATCH(B8,Contrato!A:A,0)),0)/100)),"Preço acima do contrato","OK")))) | I8: =IF(OR(Nota!A8="",H8="OK",H8="Item repetido, quantidade bate"),"",IF(H8="Quantidade que não chegou",(C8-D8)*E8,IF(H8="Preço acima do contrato",(E8-F8)*C8,IF(AND(LEFT(H8,8)="Cobrança",COUNTIFS(Nota!A$2:A8,Nota!A8,Nota!C$2:C8,Nota!C8)=G8),(SUMIFS(Nota!D:D,Nota!A:A,Nota!A8,Nota!C:C,Nota!C8)-D8)*E8,0))))
A9: =IF(Nota!A9="","",Nota!A9) | B9: =IF(Nota!A9="","",Nota!C9) | C9: =IF(Nota!A9="","",Nota!D9) | D9: =IF(Nota!A9="","",SUMIFS(Recebimento!D:D,Recebimento!B:B,Nota!A9,Recebimento!C:C,Nota!C9)) | E9: =IF(Nota!A9="","",Nota!E9) | F9: =IF(Nota!A9="","",IFERROR(INDEX(Contrato!C:C,MATCH(Nota!C9,Contrato!A:A,0)),"sem contrato")) | G9: =IF(Nota!A9="","",COUNTIFS(Nota!A:A,Nota!A9,Nota!C:C,Nota!C9)) | H9: =IF(Nota!A9="","",IF(G9>1,IF(SUMIFS(Nota!D:D,Nota!A:A,Nota!A9,Nota!C:C,Nota!C9)>D9,"Cobrança em dobro (item repetido na nota)","Item repetido, quantidade bate"),IF(D9<C9,"Quantidade que não chegou",IF(AND(ISNUMBER(F9),E9>F9*(1+IFERROR(INDEX(Contrato!D:D,MATCH(B9,Contrato!A:A,0)),0)/100)),"Preço acima do contrato","OK")))) | I9: =IF(OR(Nota!A9="",H9="OK",H9="Item repetido, quantidade bate"),"",IF(H9="Quantidade que não chegou",(C9-D9)*E9,IF(H9="Preço acima do contrato",(E9-F9)*C9,IF(AND(LEFT(H9,8)="Cobrança",COUNTIFS(Nota!A$2:A9,Nota!A9,Nota!C$2:C9,Nota!C9)=G9),(SUMIFS(Nota!D:D,Nota!A:A,Nota!A9,Nota!C:C,Nota!C9)-D9)*E9,0))))
A10: =IF(Nota!A10="","",Nota!A10) | B10: =IF(Nota!A10="","",Nota!C10) | C10: =IF(Nota!A10="","",Nota!D10) | D10: =IF(Nota!A10="","",SUMIFS(Recebimento!D:D,Recebimento!B:B,Nota!A10,Recebimento!C:C,Nota!C10)) | E10: =IF(Nota!A10="","",Nota!E10) | F10: =IF(Nota!A10="","",IFERROR(INDEX(Contrato!C:C,MATCH(Nota!C10,Contrato!A:A,0)),"sem contrato")) | G10: =IF(Nota!A10="","",COUNTIFS(Nota!A:A,Nota!A10,Nota!C:C,Nota!C10)) | H10: =IF(Nota!A10="","",IF(G10>1,IF(SUMIFS(Nota!D:D,Nota!A:A,Nota!A10,Nota!C:C,Nota!C10)>D10,"Cobrança em dobro (item repetido na nota)","Item repetido, quantidade bate"),IF(D10<C10,"Quantidade que não chegou",IF(AND(ISNUMBER(F10),E10>F10*(1+IFERROR(INDEX(Contrato!D:D,MATCH(B10,Contrato!A:A,0)),0)/100)),"Preço acima do contrato","OK")))) | I10: =IF(OR(Nota!A10="",H10="OK",H10="Item repetido, quantidade bate"),"",IF(H10="Quantidade que não chegou",(C10-D10)*E10,IF(H10="Preço acima do contrato",(E10-F10)*C10,IF(AND(LEFT(H10,8)="Cobrança",COUNTIFS(Nota!A$2:A10,Nota!A10,Nota!C$2:C10,Nota!C10)=G10),(SUMIFS(Nota!D:D,Nota!A:A,Nota!A10,Nota!C:C,Nota!C10)-D10)*E10,0))))
A11: =IF(Nota!A11="","",Nota!A11) | B11: =IF(Nota!A11="","",Nota!C11) | C11: =IF(Nota!A11="","",Nota!D11) | D11: =IF(Nota!A11="","",SUMIFS(Recebimento!D:D,Recebimento!B:B,Nota!A11,Recebimento!C:C,Nota!C11)) | E11: =IF(Nota!A11="","",Nota!E11) | F11: =IF(Nota!A11="","",IFERROR(INDEX(Contrato!C:C,MATCH(Nota!C11,Contrato!A:A,0)),"sem contrato")) | G11: =IF(Nota!A11="","",COUNTIFS(Nota!A:A,Nota!A11,Nota!C:C,Nota!C11)) | H11: =IF(Nota!A11="","",IF(G11>1,IF(SUMIFS(Nota!D:D,Nota!A:A,Nota!A11,Nota!C:C,Nota!C11)>D11,"Cobrança em dobro (item repetido na nota)","Item repetido, quantidade bate"),IF(D11<C11,"Quantidade que não chegou",IF(AND(ISNUMBER(F11),E11>F11*(1+IFERROR(INDEX(Contrato!D:D,MATCH(B11,Contrato!A:A,0)),0)/100)),"Preço acima do contrato","OK")))) | I11: =IF(OR(Nota!A11="",H11="OK",H11="Item repetido, quantidade bate"),"",IF(H11="Quantidade que não chegou",(C11-D11)*E11,IF(H11="Preço acima do contrato",(E11-F11)*C11,IF(AND(LEFT(H11,8)="Cobrança",COUNTIFS(Nota!A$2:A11,Nota!A11,Nota!C$2:C11,Nota!C11)=G11),(SUMIFS(Nota!D:D,Nota!A:A,Nota!A11,Nota!C:C,Nota!C11)-D11)*E11,0))))
A12: =IF(Nota!A12="","",Nota!A12) | B12: =IF(Nota!A12="","",Nota!C12) | C12: =IF(Nota!A12="","",Nota!D12) | D12: =IF(Nota!A12="","",SUMIFS(Recebimento!D:D,Recebimento!B:B,Nota!A12,Recebimento!C:C,Nota!C12)) | E12: =IF(Nota!A12="","",Nota!E12) | F12: =IF(Nota!A12="","",IFERROR(INDEX(Contrato!C:C,MATCH(Nota!C12,Contrato!A:A,0)),"sem contrato")) | G12: =IF(Nota!A12="","",COUNTIFS(Nota!A:A,Nota!A12,Nota!C:C,Nota!C12)) | H12: =IF(Nota!A12="","",IF(G12>1,IF(SUMIFS(Nota!D:D,Nota!A:A,Nota!A12,Nota!C:C,Nota!C12)>D12,"Cobrança em dobro (item repetido na nota)","Item repetido, quantidade bate"),IF(D12<C12,"Quantidade que não chegou",IF(AND(ISNUMBER(F12),E12>F12*(1+IFERROR(INDEX(Contrato!D:D,MATCH(B12,Contrato!A:A,0)),0)/100)),"Preço acima do contrato","OK")))) | I12: =IF(OR(Nota!A12="",H12="OK",H12="Item repetido, quantidade bate"),"",IF(H12="Quantidade que não chegou",(C12-D12)*E12,IF(H12="Preço acima do contrato",(E12-F12)*C12,IF(AND(LEFT(H12,8)="Cobrança",COUNTIFS(Nota!A$2:A12,Nota!A12,Nota!C$2:C12,Nota!C12)=G12),(SUMIFS(Nota!D:D,Nota!A:A,Nota!A12,Nota!C:C,Nota!C12)-D12)*E12,0))))
A13: =IF(Nota!A13="","",Nota!A13) | B13: =IF(Nota!A13="","",Nota!C13) | C13: =IF(Nota!A13="","",Nota!D13) | D13: =IF(Nota!A13="","",SUMIFS(Recebimento!D:D,Recebimento!B:B,Nota!A13,Recebimento!C:C,Nota!C13)) | E13: =IF(Nota!A13="","",Nota!E13) | F13: =IF(Nota!A13="","",IFERROR(INDEX(Contrato!C:C,MATCH(Nota!C13,Contrato!A:A,0)),"sem contrato")) | G13: =IF(Nota!A13="","",COUNTIFS(Nota!A:A,Nota!A13,Nota!C:C,Nota!C13)) | H13: =IF(Nota!A13="","",IF(G13>1,IF(SUMIFS(Nota!D:D,Nota!A:A,Nota!A13,Nota!C:C,Nota!C13)>D13,"Cobrança em dobro (item repetido na nota)","Item repetido, quantidade bate"),IF(D13<C13,"Quantidade que não chegou",IF(AND(ISNUMBER(F13),E13>F13*(1+IFERROR(INDEX(Contrato!D:D,MATCH(B13,Contrato!A:A,0)),0)/100)),"Preço acima do contrato","OK")))) | I13: =IF(OR(Nota!A13="",H13="OK",H13="Item repetido, quantidade bate"),"",IF(H13="Quantidade que não chegou",(C13-D13)*E13,IF(H13="Preço acima do contrato",(E13-F13)*C13,IF(AND(LEFT(H13,8)="Cobrança",COUNTIFS(Nota!A$2:A13,Nota!A13,Nota!C$2:C13,Nota!C13)=G13),(SUMIFS(Nota!D:D,Nota!A:A,Nota!A13,Nota!C:C,Nota!C13)-D13)*E13,0))))
A14: =IF(Nota!A14="","",Nota!A14) | B14: =IF(Nota!A14="","",Nota!C14) | C14: =IF(Nota!A14="","",Nota!D14) | D14: =IF(Nota!A14="","",SUMIFS(Recebimento!D:D,Recebimento!B:B,Nota!A14,Recebimento!C:C,Nota!C14)) | E14: =IF(Nota!A14="","",Nota!E14) | F14: =IF(Nota!A14="","",IFERROR(INDEX(Contrato!C:C,MATCH(Nota!C14,Contrato!A:A,0)),"sem contrato")) | G14: =IF(Nota!A14="","",COUNTIFS(Nota!A:A,Nota!A14,Nota!C:C,Nota!C14)) | H14: =IF(Nota!A14="","",IF(G14>1,IF(SUMIFS(Nota!D:D,Nota!A:A,Nota!A14,Nota!C:C,Nota!C14)>D14,"Cobrança em dobro (item repetido na nota)","Item repetido, quantidade bate"),IF(D14<C14,"Quantidade que não chegou",IF(AND(ISNUMBER(F14),E14>F14*(1+IFERROR(INDEX(Contrato!D:D,MATCH(B14,Contrato!A:A,0)),0)/100)),"Preço acima do contrato","OK")))) | I14: =IF(OR(Nota!A14="",H14="OK",H14="Item repetido, quantidade bate"),"",IF(H14="Quantidade que não chegou",(C14-D14)*E14,IF(H14="Preço acima do contrato",(E14-F14)*C14,IF(AND(LEFT(H14,8)="Cobrança",COUNTIFS(Nota!A$2:A14,Nota!A14,Nota!C$2:C14,Nota!C14)=G14),(SUMIFS(Nota!D:D,Nota!A:A,Nota!A14,Nota!C:C,Nota!C14)-D14)*E14,0))))
... A301: =IF(Nota!A301="","",Nota!A301) | B301: =IF(Nota!A301="","",Nota!C301) | C301: =IF(Nota!A301="","",Nota!D301) | D301: =IF(Nota!A301="","",SUMIFS(Recebimento!D:D,Recebimento!B:B,Nota!A301,Recebimento!C:C,Nota!C301)) | E301: =IF(Nota!A301="","",Nota!E301) | F301: =IF(Nota!A301="","",IFERROR(INDEX(Contrato!C:C,MATCH(Nota!C301,Contrato!A:A,0)),"sem contrato")) | G301: =IF(Nota!A301="","",COUNTIFS(Nota!A:A,Nota!A301,Nota!C:C,Nota!C301)) | H301: =IF(Nota!A301="","",IF(G301>1,IF(SUMIFS(Nota!D:D,Nota!A:A,Nota!A301,Nota!C:C,Nota!C301)>D301,"Cobrança em dobro (item repetido na nota)","Item repetido, quantidade bate"),IF(D301<C301,"Quantidade que não chegou",IF(AND(ISNUMBER(F301),E301>F301*(1+IFERROR(INDEX(Contrato!D:D,MATCH(B301,Contrato!A:A,0)),0)/100)),"Preço acima do contrato","OK")))) | I301: =IF(OR(Nota!A301="",H301="OK",H301="Item repetido, quantidade bate"),"",IF(H301="Quantidade que não chegou",(C301-D301)*E301,IF(H301="Preço acima do contrato",(E301-F301)*C301,IF(AND(LEFT(H301,8)="Cobrança",COUNTIFS(Nota!A$2:A301,Nota!A301,Nota!C$2:C301,Nota!C301)=G301),(SUMIFS(Nota!D:D,Nota!A:A,Nota!A301,Nota!C:C,Nota!C301)-D301)*E301,0))))
